Workbook

Sheet 入力用シート
A1: ◎ 緑色セル | H1: に入力してください。 | N1: （入力必要項目のみ緑色セル | Y1: に変わります） | AW1: ○ | AY1: Ⅰ | BA1: 有 | BC1: 直営
A2: ◎ 黄色セル | H2: は数式が入っているため、自動計算されます。 | AY2: Ⅱ | BA2: 無 | BC2: 委託
A3: ◎ 赤枠は | H3: は「特定給食施設の届出事項」の内容です。届出内容に変更がある場合は、
H4: 「届出内容の変更」有に☑をし、健康増進法第20条第2項の規定により、記載内容を届出したとみなします。
A5: 令和 年10月分 【特定給食施設用】 給食施設栄養管理報告書 兼 特定給食施設変更届 （病院・診療所） | AB5: 届出内容 の変更 | AF5: 有 無 | BE5: FALSE | BF5: FALSE
A7: 給食施設の名称 | R7: 施設の設置者
R8: （法人名・職・氏名）
R9: 設置者の住所 | V9: 〒
R11: 給食責任者
A12: 所在地 | D12: 〒 | R12: （職・氏名）
A13: 尼崎市 | R13: 報告書作成者
R14: （職・氏名）
A15: TEL： | I15: FAX： | R15: 連絡先TEL
A16: ﾒｰﾙｱﾄﾞﾚｽ： | R16: 連絡先ﾒｰﾙｱﾄﾞﾚｽ
A18: 許可病床数 | F18: 一般 | I18: 療養 | L18: 精神 | N18: 感染症 | P18: その他 | R18: 合計 | U18: 栄養管理等に 関する加算 | Y18: 入院時食事療養 | AC18: 栄養サポートチーム加算 | AG18: 栄養情報連携料
R19: =SUM(F19:Q19) -> 0
A20: 区分 ※行数が足りない場合は、「別表」に記入 | F20: 病 院 | U20: 委託業者 | AK20: 病院 | AL20: FALSE | AM20: 老健 | AN20: FALSE | AO20: 介護医療 | AP20: FALSE | AX20: ○
F21: 氏 名 | M21: 勤務形態・従事年数 | U21: 氏 名 | AB21: 勤務形態・従事年数
M22: 常勤 | O22: 常勤 以外 | Q22: 管理栄養士・栄養士 従事年数 | AB22: 常勤 | AD22: 常勤 以外 | AF22: 管理栄養士・栄養士 従事年数 | AK22: 老福 | AL22: FALSE | AM22: 社福 | AN22: FALSE | AO22: その他 | AP22: FALSE
A24: 管理栄養士 | AK24: Ⅰ | AL24: FALSE | AM24: 管理栄養士 | AO24: 管理栄養士
A25: 管理栄養士 | AK25: Ⅰ | AL25: FALSE | AM25: 管理栄養士 | AO25: 管理栄養士
A26: 栄養士 | AK26: Ⅰ | AL26: FALSE | AM26: 管理栄養士 | AO26: 管理栄養士
A27: 栄養士 | AK27: Ⅰ | AL27: FALSE | AM27: 管理栄養士 | AO27: 管理栄養士
A28: 調理師 | F28: 常勤 | L28: 人 | M28: 、非常勤 | T28: 人 | U28: 常勤 | AA28: 人 | AB28: 、非常勤 | AI28: 人 | AK28: Ⅰ | AL28: FALSE | AM28: 管理栄養士 | AO28: 管理栄養士
A29: 調理従事者 | F29: 常勤 | L29: 人 | M29: 、非常勤 | T29: 人 | U29: 常勤 | AA29: 人 | AB29: 、非常勤 | AI29: 人 | AK29: Ⅰ | AL29: FALSE | AM29: 管理栄養士 | AO29: 管理栄養士
A30: その他 | F30: 常勤 | L30: 人 | M30: 、非常勤 | T30: 人 | U30: 常勤 | AA30: 人 | AB30: 、非常勤 | AI30: 人 | AK30: Ⅰ | AL30: FALSE | AM30: 管理栄養士 | AO30: 管理栄養士
A31: 運営方法 | E31: 受託給食会社 | F31: 会社名 | R31: 給食数 | U31: 朝食 | X31: 昼食 | AA31: 夕食 | AD31: その他 | AG31: 1日合計 | AK31: Ⅰ | AL31: FALSE | AM31: 管理栄養士 | AO31: 管理栄養士
A33: 直営 委託 | F33: 所在地 | R33: 一般食 | S33: 常食 | AG33: =SUM(U33:AF34) -> 0 | AX33: 運営方法
AX34: FALSE
S35: その他 | AG35: =SUM(U35:AF36) -> 0 | AX35: FALSE
F36: TEL
R37: 特別食 療養食 | AG37: =SUM(U37:AF38) -> 0 | AX37: 委託内容
A38: 委託内容 | AX38: FALSE
R39: 職員食 | AG39: =SUM(U39:AF40) -> 0 | AX39: FALSE
AX40: FALSE
R41: 合計 | U41: =SUM(U33:W40) -> 0 | X41: =SUM(X33:Z40) -> 0 | AA41: =SUM(AA33:AC40) -> 0 | AD41: =SUM(AD33:AF40) -> 0 | AG41: =SUM(AG33:AI40) -> 0 | AX41: FALSE
AX42: FALSE
R43: 予定 給食数 | AX43: FALSE
AX44: FALSE | AY44: FALSE
A45: 適温給食の 実施方法 | F45: 保温保冷配膳車 | M45: 保温トレイ | R45: 保温食器 | W45: 配膳時間 | AA45: 朝食 | AD45: 昼食 | AG45: 夕食 | AK45: 適温給食 | AX45: FALSE
...

Sheet 入力用（別表）
A1: 【別表】
A2: 区分 | F2: 病 院 | U2: 委託業者 | AK2: 病院 | AL2: FALSE | AM2: 老健 | AN2: FALSE | AO2: 介護医療 | AP2: FALSE
F3: 氏 名 | M3: 勤務形態・従事年数 | U3: 氏 名 | AB3: 勤務形態・従事年数
M4: 常勤 | O4: 常勤 以外 | Q4: 管理栄養士・栄養士 従事年数 | AB4: 常勤 | AD4: 常勤 以外 | AF4: 管理栄養士・栄養士 従事年数 | AK4: 老福 | AL4: FALSE | AM4: 社福 | AN4: FALSE | AO4: その他 | AP4: FALSE
A6: 管理栄養士 | AK6: Ⅰ | AL6: FALSE | AM6: 管理栄養士 | AO6: 管理栄養士
A7: 管理栄養士 | AK7: Ⅰ | AL7: FALSE | AM7: 管理栄養士 | AO7: 管理栄養士
A8: 管理栄養士 | AK8: Ⅰ | AL8: FALSE | AM8: 管理栄養士 | AO8: 管理栄養士
A9: 管理栄養士 | AK9: Ⅰ | AL9: FALSE | AM9: 管理栄養士 | AO9: 管理栄養士
A10: 管理栄養士 | AK10: Ⅰ | AL10: FALSE | AM10: 管理栄養士 | AO10: 管理栄養士
A11: 管理栄養士 | AK11: Ⅰ | AL11: FALSE | AM11: 管理栄養士 | AO11: 管理栄養士
A12: 管理栄養士 | AK12: Ⅰ | AL12: FALSE | AM12: 管理栄養士 | AO12: 管理栄養士
A13: 管理栄養士 | AK13: Ⅰ | AL13: FALSE | AM13: 管理栄養士 | AO13: 管理栄養士
A14: 管理栄養士 | AK14: Ⅰ | AL14: FALSE | AM14: 管理栄養士 | AO14: 管理栄養士
A15: 管理栄養士 | AK15: Ⅰ | AL15: FALSE | AM15: 管理栄養士 | AO15: 管理栄養士
A16: 管理栄養士 | AK16: Ⅰ | AL16: FALSE | AM16: 管理栄養士 | AO16: 管理栄養士
A17: 管理栄養士 | AK17: Ⅰ | AL17: FALSE | AM17: 管理栄養士 | AO17: 管理栄養士
... A23: 栄養士 | AK23: Ⅰ | AL23: FALSE | AM23: 管理栄養士 | AO23: 管理栄養士

Sheet 【入力不要】集計用シート
A2: ALL
A3: 施設名称 | B3: ID | C3: 施設の種類 | D3: 運営形態 | E3: 食数 区分 | F3: 栄養士 区分 | G3: 特定届等 | H3: 特定開始日 （特定変更日） | I3: 郵便番号 | J3: 所在地 | K3: 電話番号 | L3: FAX | M3: 報告書及び届出記載 メ-ルアドレス | N3: 回答（担当） メ-ルアドレス | O3: ﾒ-ﾙ等回答者（作成） ※敬称略 | P3: 給食開始 年月日 | Q3: 設置者_法人名 役職名 設置者名 | R3: 設置者_ 郵便番号 | S3: 設置者住所 | T3: 設置者_ 電話番号 | U3: 栄養管理報告書 種別 | V3: 巡回年度（直近） | W3: 備考（巡回・監査について） | X3: 備考（栄養管理報告書について） | Y3: 備考（その他） | Z3: 尼病研 | AA3: 高齢者 連絡会
A4: =入力用シート!$A$8 -> 0 | D4: =IF(AND(入力用シート!$AX$34=TRUE, 入力用シート!$AX$35=TRUE), "エラー", IF(入力用シート!$AX$34=TRUE, "直営", IF(入力用シート!$AX$35=TRUE, "委託", "エラー"))) -> エラー | I4: =入力用シート!$E$12 -> 0 | J4: =入力用シート!$D$13 -> 0 | K4: =入力用シート!$C$15 -> 0 | L4: =入力用シート!$K$15 -> 0 | M4: =入力用シート!$D$16 -> 0 | N4: =入力用シート!$V$16 -> 0 | O4: =入力用シート!$V$13 -> 0 | Q4: =入力用シート!$V$7 -> 0 | R4: =入力用シート!$W$9 -> 0 | S4: =入力用シート!$V$10 -> 0
A7: 種類別
A8: 施設名称 | B8: ID | C8: 許可病床数 入所定員等 | D8: 給食数 （届出・朝） | E8: 給食数 （届出・昼） | F8: 給食数 （届出・夕） | G8: 給食数 （届出・他） | H8: 給食数 （届出・計） | I8: 給食数 （実数・朝） | J8: 給食数 （実数・昼） | K8: 給食数 （実数・夕） | L8: 給食数 （実数・他） | M8: 給食数 （実数・計） | N8: 管理栄養士 （届出） | O8: 管理栄養士（実数） （施設・常） | P8: 管理栄養士（実数） （施設・非） | Q8: 管理栄養士（実数） （受託・常） | R8: 管理栄養士（実数） （受託・非） | S8: 栄養士 （届出） | T8: 栄養士 （実数） （施設・常） | U8: 栄養士 （実数） （施設・非） | V8: 栄養士 （実数） （受託・常） | W8: 栄養士 （実数） （受託・非） | X8: 調理師 （実数） （施設・常） | Y8: 調理師 （実数） （施設・非） | Z8: 調理師 （実数） （受託・常） | AA8: 調理師 （実数） （受託・非） | AB8: 委託給食会社名 | AC8: 委託内容 （施設外調理） | AD8: 調理師 （実数） （合計・常） | AE8: 検食 | AF8: 検食者 （医師） | AG8: 検食者 （管栄・栄） | AH8: 検食者 （他） | AI8: 検食 （記録保存） | AJ8: 喫食量の把握 | AK8: （病） 嗜好調査 （事） 喫食調査 | AL8: 食材料費 （一般食） | AM8: 食材料費 （特・療） | AN8: 食材料費 （職員） | AO8: 会議 | AP8: 会議 （回数） | AQ8: 会議 ［内容］ （課題解決） | AR8: 会議 ［内容］ （苦情処理） | AS8: 会議 ［内容］ （連携強化） | AT8: 会議 ［内容］ （献立検討） | AU8: アセスメント | AV8: アセスメント （対象） | AW8: 目標量 | AX8: 目標量 （更新時期） | AY8: 食品構成 | AZ8: 食品構成 （更新時期） | BA8: 含まれる 食数 | BB8: 目標 （E） 整数 | BC8: 給与 （E） 整数 | BD8: 目標 （P） 整数 | BE8: 給与 （P） 整数 | BF8: 目標 （F） 整数 | BG8: 給与 （F) 整数 | BH8: 目標 （Ca） 整数 | BI8: 給与 （Ca） 整数 | BJ8: 目標 （Fe） 下1桁 | BK8: 給与 （Fe） 下1桁 | BL8: 目標 （VA） 整数 | BM8: 給与 （VA） 整数 | BN8: 目標 （VB1） 下2桁 | BO8: 給与 （VB1） 下2桁 | BP8: 目標 （VB2） 下2桁 | BQ8: 給与 （VB2） 下2桁 | BR8: 目標 （VC） 整数 | BS8: 給与 （VC） 整数 | BT8: 目標 （Fi） 下1桁 | BU8: 給与 （Fｉ） 下1桁 | BV8: 目標 （Nacl） 下1桁 | BW8: 給与 （Nacl） 下1桁 | BX8: 目標 （P：%E） | BY8: 給与 （P：%E） | BZ8: 目標 （F：%E） | CA8: 給与 （F：%E） | CB8: 目標 （C：%E） | CC8: 給与 （C：%E） | CD8: 目標 （緑黄色） 整数 | CE8: 給与 （緑黄色） 整数 | CF8: 目標 （他野菜） 整数 | CG8: 給与 （他野菜） 整数 | CH8: 目標 （野菜量） | CI8: 給与 （野菜量） | CJ8: 給与栄養量 | CK8: 給与栄養量 算出頻度 | CL8: 栄養指導 | CM8: 栄養指導 （入院） | CN8: 栄養指導 （外来） | CO8: 栄養指導 （在宅） | CP8: 栄養指導 （入院集団） | CQ8: 栄養指導 （外来集団） | CR8: 情報提供 | CS8: 情報提供 （成分表示） | CT8: 研修 | CU8: 食・感 マニュアル | CV8: 食・感 マニュアル （更新時期） | CW8: 災害 マニュアル | CX8: 災害 マニュアル （更新時期） | CY8: 備蓄 （水） | CZ8: 備蓄(水) 量（L×人×日分） | DA8: 備蓄 （食） | DB8: 備蓄（食） 量（人×日分） | DC8: 施設外連携 | DD8: 施設外連携 （系列施設） | DE8: 施設外連携 （近隣施設） | DF8: 施設外連携 （給食会社） | DG8: 施設外連携 （その他）
A9: =入力用シート!$A$8 -> 0 | C9: =入力用シート!$R$19 -> 0 | D9: =入力用シート!U43 -> 0 | E9: =入力用シート!X43 -> 0 | F9: =入力用シート!AA43 -> 0 | G9: =入力用シート!AD43 -> 0 | H9: =SUM(D9:G9) -> 0 | I9: =入力用シート!$U$41 -> 0 | J9: =入力用シート!$X$41 -> 0 | K9: =入力用シート!$AA$41 -> 0 | L9: =入力用シート!$AD$41 -> 0 | O9: =COUNTIF(入力用シート!$M$24:$M$25, "〇") + COUNTIF(入力用シート!$M$24:$M$25, "○") + COUNTIF('入力用（別表）'!$M$6:$M$17, "〇") + COUNTIF('入力用（別表）'!$M$6:$M$17, "○") -> 0 | P9: =COUNTIF(入力用シート!$O$24:$O$25, "〇") + COUNTIF(入力用シート!$O$24:$O$25, "○") + COUNTIF('入力用（別表）'!$O$6:$O$17, "〇") + COUNTIF('入力用（別表）'!$O$6:$O$17, "○") -> 0 | Q9: =COUNTIF(入力用シート!$AB$24:$AB$25, "〇") + COUNTIF(入力用シート!$AB$24:$AB$25, "○") + COUNTIF('入力用（別表）'!$AB$6:$AB$17, "〇") + COUNTIF('入力用（別表）'!$AB$6:$AB$17, "○") -> 0 | R9: =COUNTIF(入力用シート!$AD$24:$AD$25, "〇") + COUNTIF(入力用シート!$AD$24:$AD$25, "○") + COUNTIF('入力用（別表）'!$AD$6:$AD$17, "〇") + COUNTIF('入力用（別表）'!$AD$6:$AD$17, "○") -> 0 | T9: =COUNTIF(入力用シート!$M$26:$M$27, "〇") + COUNTIF(入力用シート!$M$26:$M$27, "○") + COUNTIF('入力用（別表）'!$M$18:$M$23, "〇") + COUNTIF('入力用（別表）'!$M$18:$M$23, "○") -> 0 | U9: =COUNTIF(入力用シート!$O$26:$O$27, "〇") + COUNTIF(入力用シート!$O$26:$O$27, "○") + COUNTIF('入力用（別表）'!$O$18:$O$23, "〇") + COUNTIF('入力用（別表）'!$O$18:$O$23, "○") -> 0 | V9: =COUNTIF(入力用シート!$AB$26:$AB$27, "〇") + COUNTIF(入力用シート!$AB$26:$AB$27, "○") + COUNTIF('入力用（別表）'!$AB$18:$AB$23, "〇") + COUNTIF('入力用（別表）'!$AB$18:$AB$23, "○") -> 0 | W9: =COUNTIF(入力用シート!$AD$26:$AD$27, "〇") + COUNTIF(入力用シート!$AD$26:$AD$27, "○") + COUNTIF('入力用（別表）'!$AD$18:$AD$23, "〇") + COUNTIF('入力用（別表）'!$AD$18:$AD$23, "○") -> 0 | X9: =入力用シート!$H$28 -> 0 | Y9: =入力用シート!$P$28 -> 0 | Z9: =入力用シート!$W$28 -> 0 | AA9: =入力用シート!$AE$28 -> 0 | AB9: =IF(入力用シート!I31="", "", 入力用シート!I31) | AC9: =IF(入力用シート!$AX$44=TRUE, 1, IF(入力用シート!$AY$44=TRUE, 2, IF(入力用シート!$AX$45=TRUE, 3, ""))) | AE9: =IF(AND(入力用シート!$AL$50=TRUE, 入力用シート!$AL$51=TRUE), "エラー", IF(入力用シート!$AL$50=TRUE, 1, IF(入力用シート!$AL$51=TRUE, 2, "エラー"))) -> エラー | AF9: =IF(入力用シート!$AN$50=TRUE,1,"") | AG9: =IF(入力用シート!$AN$51=TRUE,1,"") | AH9: =IF(入力用シート!$AN$52=TRUE,1,"") | AI9: =IF(AND(入力用シート!$AP$50=TRUE, 入力用シート!$AP$51=TRUE), "エラー", IF(入力用シート!$AP$50=TRUE, 1, IF(入力用シート!$AP$51=TRUE, 2, "エラー"))) -> エラー | AJ9: =IF(AND(入力用シート!$AR$50=TRUE, 入力用シート!$AR$51=TRUE), "エラー", IF(入力用シート!$AR$50=TRUE, 1, IF(入力用シート!$AR$51=TRUE, 2, "エラー"))) -> エラー | AK9: =IF(AND(入力用シート!$AL$54=TRUE, 入力用シート!$AL$55=TRUE), "エラー", IF(入力用シート!$AL$54=TRUE, 1, IF(入力用シート!$AL$55=TRUE, 2, "エラー"))) -> エラー | AL9: =入力用シート!$W$55 -> 0 | AM9: =入力用シート!$AA$55 -> 0 | AN9: =入力用シート!$AF$55 -> 0 | AO9: =IF(AND(入力用シート!$AL$58=TRUE, 入力用シート!$AL$59=TRUE), "エラー", IF(入力用シート!$AL$58=TRUE, 1, IF(入力用シート!$AL$59=TRUE, 2, "エラー"))) -> エラー | AP9: =IF(入力用シート!$M$57="12～", 1, IF(OR(入力用シート!$M$57&""="6", 入力用シート!$M$57&""="7", 入力用シート!$M$57&""="8", 入力用シート!$M$57&""="9", 入力用シート!$M$57&""="10", 入力用シート!$M$57&""="11"), 2, IF(OR(入力用シート!$M$57&""="1", 入力用シート!$M$57&""="2", 入力用シート!$M$57&""="3", 入力用シート!$M$57&""="4", 入力用シート!$M$57&""="5"), 3, ""))) | AQ9: =IF(入力用シート!$AP$61=TRUE,1,"") | AR9: =IF(入力用シート!$AP$62=TRUE,1,"") | AS9: =IF(入力用シート!$AP$63=TRUE,1,"") | AT9: =IF(入力用シート!$AP$64=TRUE,1,"") | AU9: =IF(AND(入力用シート!$AL$70=TRUE, 入力用シート!$AL$71=TRUE), "エラー", IF(入力用シート!$AL$70=TRUE, 1, IF(入力用シート!$AL$71=TRUE, 2, "エラー"))) -> エラー | AV9: =IF(AND(入力用シート!$AN$70=TRUE, 入力用シート!$T$69<>""), "エラー", IF(入力用シート!$AN$70=TRUE, 100, IF(入力用シート!$T$69<>"", 入力用シート!$T$69, ""))) | AW9: =IF(AND(入力用シート!$AL$79=TRUE, 入力用シート!$AL$80=TRUE), "エラー", IF(入力用シート!$AL$79=TRUE, 1, IF(入力用シート!$AL$80=TRUE, 2, "エラー"))) -> エラー | AX9: =IF(入力用シート!$V$80="", "", SUBSTITUTE(SUBSTITUTE(入力用シート!$V$79, "令和", "R"), "平成", "H") & 入力用シート!$V$80 & "年" & 入力用シート!$Y$79 & "月") | AY9: =IF(AND(入力用シート!$AN$79=TRUE, 入力用シート!$AN$80=TRUE), "エラー", IF(入力用シート!$AN$79=TRUE, 1, IF(入力用シート!$AN$80=TRUE, 2, "エラー"))) -> エラー | AZ9: =IF(入力用シート!$V$82="", "", SUBSTITUTE(SUBSTITUTE(入力用シート!$V$81, "令和", "R"), "平成", "H") & 入力用シート!$V$82 & "年" & 入力用シート!$Y$81 & "月") | BA9: =IF(入力用シート!$AL$88=TRUE, 1, 0) + IF(入力用シート!$AL$89=TRUE, 1, 0) + IF(入力用シート!$AL$90=TRUE, 1, 0) + IF(入力用シート!$AL$91=TRUE, 0.5, 0) -> 0 | BB9: =入力用シート!$J$95 -> 0 | BC9: =入力用シート!$N$95 -> 0 | BD9: =入力用シート!$J$97 -> 0 | BE9: =入力用シート!$N$97 -> 0 | BF9: =入力用シート!$J$99 -> 0 | BG9: =入力用シート!$N$99 -> 0 | BH9: =入力用シート!$J$101 -> 0 | BI9: =入力用シート!$N$101 -> 0 | BJ9: =入力用シート!$J$103 -> 0 | BK9: =入力用シート!$N$103 -> 0 | BL9: =入力用シート!$J$105 -> 0 | BM9: =入力用シート!$N$105 -> 0 | BN9: =入力用シート!$J$107 -> 0 | BO9: =入力用シート!$N$107 -> 0 | BP9: =入力用シート!$J$109 -> 0 | BQ9: =入力用シート!$N$109 -> 0 | BR9: =入力用シート!$J$111 -> 0 | BS9: =入力用シート!$N$111 -> 0 | BT9: =入力用シート!$J$113 -> 0 | BU9: =入力用シート!$N$113 -> 0 | BV9: =入力用シート!$J$115 -> 0 | BW9: =入力用シート!$N$115 -> 0 | CD9: =入力用シート!$J$123 -> 0 | CE9: =入力用シート!$N$123 -> 0 | CF9: =入力用シート!$J$125 -> 0 | CG9: =入力用シート!$N$125 -> 0 | CJ9: =IF(AND(入力用シート!$AL$84=TRUE, 入力用シート!$AL$85=TRUE), "エラー", IF(入力用シート!$AL$84=TRUE, 1, IF(入力用シート!$AL$85=TRUE, 2, "エラー"))) -> エラー | CK9: =IF((入力用シート!$AN$84=TRUE)+(入力用シート!$AP$84=TRUE)+(入力用シート!$AN$85=TRUE)+(入力用シート!$AP$85=TRUE)>1, "エラー", IF(入力用シート!$AN$84=TRUE, 1, IF(入力用シート!$AP$84=TRUE, 2, IF(入力用シート!$AN$85=TRUE, 3, IF(入力用シート!$AP$85=TRUE, 4, ""))))) | CL9: =IF(AND(入力用シート!$AN$88=TRUE, 入力用シート!$AN$89=TRUE), "エラー", IF(入力用シート!$AN$88=TRUE, 1, IF(入力用シート!$AN$89=TRUE, 2, "エラー"))) -> エラー | CM9: =入力用シート!$X$90 -> 0 | CN9: =入力用シート!$AB$90 -> 0 | CO9: =入力用シート!$AF$90 -> 0 | CP9: =入力用シート!$X$94 -> 0 | CQ9: =入力用シート!$AD$94 -> 0 | CR9: =IF(AND(入力用シート!$AP$95=TRUE, 入力用シート!$AP$96=TRUE), "エラー", IF(入力用シート!$AP$95=TRUE, 1, IF(入力用シート!$AP$96=TRUE, 2, "エラー"))) -> エラー | CS9: =IF(入力用シート!$AR$95=TRUE,1,"") | CT9: =IF(AND(入力用シート!$AP$111=TRUE, 入力用シート!$AP$112=TRUE), "エラー", IF(入力用シート!$AP$111=TRUE, 1, IF(入力用シート!$AP$112=TRUE, 2, "エラー"))) -> エラー | CU9: =IF(AND(入力用シート!$AL$116=TRUE, 入力用シート!$AL$117=TRUE), "エラー", IF(入力用シート!$AL$116=TRUE, 1, IF(入力用シート!$AL$117=TRUE, 2, "エラー"))) -> エラー | CV9: =IF(入力用シート!$AC$115="", "", 入力用シート!$AC$115 & "年" & 入力用シート!$AE$115 & "月") | CW9: =IF(AND(入力用シート!$AL$119=TRUE, 入力用シート!$AL$120=TRUE), "エラー", IF(入力用シート!$AL$119=TRUE, 1, IF(入力用シート!$AL$120=TRUE, 2, "エラー"))) -> エラー | CX9: =IF(入力用シート!$AC$117="", "", 入力用シート!$AC$117 & "年" & 入力用シート!$AE$117 & "月") | CY9: =IF(AND(入力用シート!$AL$122=TRUE, 入力用シート!$AL$123=TRUE), "エラー", IF(入力用シート!$AL$122=TRUE, 1, IF(入力用シート!$AL$123=TRUE, 2, "エラー"))) -> エラー | CZ9: =IF(入力用シート!$Z$119="", "", 入力用シート!$Z$119 & "L " & 入力用シート!$AB$119 & "人 " & 入力用シート!$AD$119 & "日分") | DA9: =IF(AND(入力用シート!$AL$125=TRUE, 入力用シート!$AL$126=TRUE), "エラー", IF(入力用シート!$AL$125=TRUE, 1, IF(入力用シート!$AL$126=TRUE, 2, "エラー"))) -> エラー | DB9: =IF(入力用シート!$Z$121="", "", 入力用シート!$Z$121 & "人 " & 入力用シート!$AC$121 & "日分") | DC9: =IF(COUNTIF(入力用シート!$AN$116:$AN$119, TRUE)>0, 1, 2) -> 2 | DD9: =IF(入力用シート!$AN$116=TRUE,1,"") | DE9: =IF(入力用シート!$AN$117=TRUE,1,"") | DF9: =IF(入力用シート!$AN$118=TRUE,1,"") | DG9: =IF(入力用シート!$AN$119=TRUE,1,"")

Sheet R4_給食設栄養管理報告書（病・高・障）PDF変換用
A1: 給食施設栄養管理報告書 （病院・高齢者・障害者施設等） | AB1: 令和 | AF1: 年10月分
A3: 給食施設の名称 | R3: 施設の設置者
R4: （法人名・職・氏名）
R5: 給食責任者
A6: 所在地 | D6: 〒 | R6: （職・氏名）
A7: 尼崎市 | R7: 報告書作成者
R8: （職・氏名）
A9: TEL： | I9: FAX： | R9: 連絡先TEL
A10: ﾒｰﾙｱﾄﾞﾚｽ： | R10: 連絡先ﾒｰﾙｱﾄﾞﾚｽ
A12: 施設の種類
AA13: （ | AI13: ）
A14: 給食従事者の人数 | F14: 施 設 | L14: 受託給食会社 | R14: 常勤の管理栄養士・栄養士 | AA14: 許可病床数 入所定員数 | AE14: 入院時食事療養 （病院・診療所）
F15: 常勤 | I15: 常勤以外 | L15: 常勤 | O15: 常勤以外
B16: 管理栄養士 | R16: 氏名： | AE16: Ⅰ Ⅱ
B18: 栄 養 士 | R18: 給食数 | U18: 朝食 | X18: 昼食 | AA18: 夕食 | AD18: その他 | AG18: 1日合計
B20: 調 理 師 | R20: 一般食 | S20: 常食
B22: 調理従事者 | S22: その他
B24: 事 務 職 | R24: 特別食 療養食
B26: そ の 他 | R26: 職員食
B28: 合 計 | R28: 合計
A30: 運営方法 | E30: 受託給食会社 | F30: 会社名 | T30: 委託内容
A32: 直営 委託 | F32: 所在地
F35: TEL
AI36: ）
A37: 適温給食の 実施方法 | F37: 保温保冷配膳車 | M37: 保温トレイ | R37: 保温食器 | W37: 配膳時間 | AA37: 朝食 | AD37: 昼食 | AG37: 夕食
F39: 保冷配膳車 | K39: その他（ | V39: ) | AB39: ： | AE39: ： | AH39: ：
A41: 毎食の検食 | F41: 検食者： | R41: 喫食量の把握 | W41: 頻度： | AA41: 回/ | AD41: 結果の 活用： | AF41: 有 無
A43: 有 無 | F43: 記録の保存： | I43: 有 無 | R43: 有 無 | W43: 把握方法： | Z43: 個別 全体(残食調査等)
A45: 嗜好調査 | F45: 頻度： | J45: 回／年 | L45: 結果の 活用： | N45: 有 無 | R45: 食材料費 | W45: 一般食 1人1日当たり | AA45: 特別食・療養食 1人1日当たり | AF45: 職員食 1人1食当たり
A47: 有 無 | F47: 対象： | H47: 全員 | K47: 一部（全体の約 | Q47: %） | Z47: 円 | AE47: 円 | AI47: 円
A49: 栄養管理に関する会議 （給食委員会） | I49: 実施回数： | Q49: 回／年 | T49: 要領： | V49: 有 無 | AA49: 会議録の保存： | AE49: 有 無
I51: 構成職種 | J51: 施設 | L51: 施設長 | O51: 医師 | Q51: 管理栄養士 栄養士 | U51: 看護師 保健師 | X51: 調理師 調理員 | AA51: 介護 担当者 | AD51: その他
J53: 給食 会社 | L53: 管理栄養士 栄養士 | P53: 調理師 調理員 | S53: その他（ | AC53: ）
A55: 有 無 | I55: 内容 | J55: 栄養管理における課題の把握と課題解決のための改善策の検討 | AE55: 苦情処理
J57: 適切な栄養管理を行うための関係部門の連携強化 | AA57: 献立内容の検討
J59: その他（ | AI59: )
A61: 栄養アセスメントの実施 | I61: 対象： | K61: 全員 | N61: 一部（全体の約 | V61: ％）
I63: 把握項目 | K63: 性 | N63: 年齢 | Q63: 身長 | T63: 体重 | W63: BMI | Z63: 身体活動レベル | AF63: 疾患
A65: 有 無 | K65: 血液検査結果 | Q65: 摂食・嚥下機能 | W65: 食習慣 | AA65: 生活環境
K67: その他（ | AI67: ）
...

Sheet PDF変換用_設栄養管理報告書（病院・高齢者・障害者施設等） 
A1: 給食施設栄養管理報告書 （病院・高齢者・障害者施設等） | AB1: 令和 | AF1: 年10月分
A3: 給食施設の名称 | R3: 施設の設置者
R4: （法人名・職・氏名）
R5: 給食責任者
A6: 所在地 | D6: 〒 | R6: （職・氏名）
A7: 尼崎市 | R7: 報告書作成者
R8: （職・氏名）
A9: TEL： | I9: FAX： | R9: 連絡先TEL
A10: ﾒｰﾙｱﾄﾞﾚｽ： | R10: 連絡先ﾒｰﾙｱﾄﾞﾚｽ
A12: 施設の種類
AA13: （ | AI13: ）
A14: 給食従事者の人数 | F14: 施 設 | L14: 受託給食会社 | R14: 常勤の管理栄養士・栄養士 | AA14: 許可病床数 入所定員数 | AE14: 入院時食事療養 （病院・診療所）
F15: 常勤 | I15: 常勤以外 | L15: 常勤 | O15: 常勤以外
B16: 管理栄養士 | R16: 氏名： | AE16: Ⅰ Ⅱ
B18: 栄 養 士 | R18: 給食数 | U18: 朝食 | X18: 昼食 | AA18: 夕食 | AD18: その他 | AG18: 1日合計
B20: 調 理 師 | R20: 一般食 | S20: 常食
B22: 調理従事者 | S22: その他
B24: 事 務 職 | R24: 特別食 療養食
B26: そ の 他 | R26: 職員食
B28: 合 計 | R28: 合計
A30: 運営方法 | E30: 受託給食会社 | F30: 会社名 | T30: 委託内容 | U30: 献立作成 | Z30: 食材購入 | AE30: 調理・盛付
A32: 直営 | F32: 所在地 | U32: 配膳 | Z32: 下膳 | AE32: 食器洗浄
A34: 委託 | F34: TEL | U34: 施設外調理 | Z34: その他（ | AI34: )
A36: 適温給食の 実施方法 | F36: 保温保冷配膳車 | M36: 保温トレイ | R36: 保温食器 | W36: 配膳時間 | AA36: 朝食 | AD36: 昼食 | AG36: 夕食
F38: 保冷配膳車 | K38: その他（ | V38: ) | AB38: ： | AE38: ： | AH38: ：
A40: 毎食の検食 | F40: 検食者： | R40: 喫食量の把握 | W40: 頻度： | AA40: 回/ | AD40: 結果の 活用： | AF40: 有 無
A42: 有 無 | F42: 記録の保存： | I42: 有 無 | R42: 有 無 | W42: 把握方法： | Z42: 個別 全体(残食調査等)
A44: 嗜好調査 | F44: 頻度： | J44: 回／年 | L44: 結果の 活用： | N44: 有 無 | R44: 食材料費 | W44: 一般食 1人1日当たり | AA44: 特別食・療養食 1人1日当たり | AF44: 職員食 1人1食当たり
A46: 有 無 | F46: 対象： | H46: 全員 | K46: 一部（全体の約 | Q46: %） | Z46: 円 | AE46: 円 | AI46: 円
A48: 栄養管理に関する会議 （給食委員会） | I48: 実施回数： | Q48: 回／年 | T48: 要領： | V48: 有 無 | AA48: 会議録の保存： | AE48: 有 無
I50: 構成職種 | J50: 施設 | L50: 施設長 | O50: 医師 | Q50: 管理栄養士 栄養士 | U50: 看護師 保健師 | X50: 調理師 調理員 | AA50: 介護 担当者 | AD50: その他
J52: 給食 会社 | L52: 管理栄養士 栄養士 | P52: 調理師 調理員 | S52: その他（ | AC52: ）
A54: 有 無 | I54: 内容 | J54: 栄養管理における課題の把握と課題解決のための改善策の検討 | AE54: 苦情処理
J56: 適切な栄養管理を行うための関係部門の連携強化 | AA56: 献立内容の検討
J58: その他（ | AI58: )
A60: 栄養アセスメントの実施 有 無 | I60: 対象： | K60: 全員 | N60: 一部（全体の約 | V60: ％）
I62: 把握項目 | K62: 性 | N62: 年齢 | Q62: 身長 | T62: 体重 | W62: BMI | Z62: 身体活動レベル | AF62: 疾患
K64: 血液検査結果 | Q64: 摂食・嚥下機能 | W64: 食習慣 | AA64: 生活環境
K66: その他（ | AI66: ）
A68: 施設の食事摂取基準 （食事せん規約） | I68: 設定している食事の種類： | O68: 一般食 | T68: 種類 | V68: 特別食 療養食 | AA68: 種類 | AC68: その他 | AH68: 種類
...
