Workbook

Sheet 入力用シート
A1: ◎ 緑色セル | H1: に入力してください。 | N1: （入力必要項目のみ緑色セル | Y1: に変わります） | AW1: ○ | AY1: Ⅰ | BA1: 有 | BC1: 直営
A2: ◎ 黄色セル | H2: は数式が入っているため、自動計算されます。 | AY2: Ⅱ | BA2: 無 | BC2: 委託
A3: ◎ 赤枠は | H3: は「特定給食施設の届出事項」の内容です。届出内容に変更がある場合は、
H4: 「届出内容の変更」有に☑をし、健康増進法第20条第2項の規定により、記載内容を届出したとみなします。
A5: 令和 年10月分 【特定給食施設用】 給食施設栄養管理報告書 兼 特定給食施設変更届 （病院・診療所） | AB5: 届出内容 の変更 | AF5: 有 無 | BE5: FALSE | BF5: FALSE
A7: 給食施設の名称 | R7: 施設の設置者
R8: （法人名・職・氏名）
R9: 設置者の住所 | V9: 〒
R11: 給食責任者
A12: 所在地 | D12: 〒 | R12: （職・氏名）
A13: 尼崎市 | R13: 報告書作成者
R14: （職・氏名）
A15: TEL： | I15: FAX： | R15: 連絡先TEL
A16: ﾒｰﾙｱﾄﾞﾚｽ： | R16: 連絡先ﾒｰﾙｱﾄﾞﾚｽ
A18: 許可病床数 | F18: 一般 | I18: 療養 | L18: 精神 | N18: 感染症 | P18: その他 | R18: 合計 | U18: 栄養管理等に 関する加算 | Y18: 入院時食事療養 | AC18: 栄養サポートチーム加算 | AG18: 栄養情報連携料
R19: =SUM(F19:Q19) -> 0
A20: 区分 ※行数が足りない場合は、「別表」に記入 | F20: 病 院 | U20: 委託業者 | AK20: 病院 | AL20: FALSE | AM20: 老健 | AN20: FALSE | AO20: 介護医療 | AP20: FALSE | AX20: ○
F21: 氏 名 | M21: 勤務形態・従事年数 | U21: 氏 名 | AB21: 勤務形態・従事年数
M22: 常勤 | O22: 常勤 以外 | Q22: 管理栄養士・栄養士 従事年数 | AB22: 常勤 | AD22: 常勤 以外 | AF22: 管理栄養士・栄養士 従事年数 | AK22: 老福 | AL22: FALSE | AM22: 社福 | AN22: FALSE | AO22: その他 | AP22: FALSE
A24: 管理栄養士 | AK24: Ⅰ | AL24: FALSE | AM24: 管理栄養士 | AO24: 管理栄養士
A25: 管理栄養士 | AK25: Ⅰ | AL25: FALSE | AM25: 管理栄養士 | AO25: 管理栄養士
A26: 栄養士 | AK26: Ⅰ | AL26: FALSE | AM26: 管理栄養士 | AO26: 管理栄養士
A27: 栄養士 | AK27: Ⅰ | AL27: FALSE | AM27: 管理栄養士 | AO27: 管理栄養士
A28: 調理師 | F28: 常勤 | L28: 人 | M28: 、非常勤 | T28: 人 | U28: 常勤 | AA28: 人 | AB28: 、非常勤 | AI28: 人 | AK28: Ⅰ | AL28: FALSE | AM28: 管理栄養士 | AO28: 管理栄養士
A29: 調理従事者 | F29: 常勤 | L29: 人 | M29: 、非常勤 | T29: 人 | U29: 常勤 | AA29: 人 | AB29: 、非常勤 | AI29: 人 | AK29: Ⅰ | AL29: FALSE | AM29: 管理栄養士 | AO29: 管理栄養士
A30: その他 | F30: 常勤 | L30: 人 | M30: 、非常勤 | T30: 人 | U30: 常勤 | AA30: 人 | AB30: 、非常勤 | AI30: 人 | AK30: Ⅰ | AL30: FALSE | AM30: 管理栄養士 | AO30: 管理栄養士
A31: 運営方法 | E31: 受託給食会社 | F31: 会社名 | R31: 給食数 | U31: 朝食 | X31: 昼食 | AA31: 夕食 | AD31: その他 | AG31: 1日合計 | AK31: Ⅰ | AL31: FALSE | AM31: 管理栄養士 | AO31: 管理栄養士
A33: 直営 委託 | F33: 所在地 | R33: 一般食 | S33: 常食 | AG33: =SUM(U33:AF34) -> 0 | AX33: 運営方法
AX34: FALSE
S35: その他 | AG35: =SUM(U35:AF36) -> 0 | AX35: FALSE
F36: TEL
R37: 特別食 療養食 | AG37: =SUM(U37:AF38) -> 0 | AX37: 委託内容
A38: 委託内容 | AX38: FALSE
R39: 職員食 | AG39: =SUM(U39:AF40) -> 0 | AX39: FALSE
AX40: FALSE
R41: 合計 | U41: =SUM(U33:W40) -> 0 | X41: =SUM(X33:Z40) -> 0 | AA41: =SUM(AA33:AC40) -> 0 | AD41: =SUM(AD33:AF40) -> 0 | AG41: =SUM(AG33:AI40) -> 0 | AX41: FALSE
AX42: FALSE
R43: 予定 給食数 | AX43: FALSE
AX44: FALSE | AY44: FALSE
A45: 適温給食の 実施方法 | F45: 保温保冷配膳車 | M45: 保温トレイ | R45: 保温食器 | W45: 配膳時間 | AA45: 朝食 | AD45: 昼食 | AG45: 夕食 | AK45: 適温給食 | AX45: FALSE
AK46: 保温保冷 | AL46: FALSE | AM46: 保温ト | AN46: FALSE | AO46: 保温食 | AP46: FALSE | AX46: FALSE
F47: 保温配膳車 | K47: その他（ | V47: ) | AB47: ： | AE47: ： | AH47: ： | AK47: 保冷 | AL47: FALSE | AM47: その他 | AN47: FALSE
A49: 毎食の検食 | F49: 検食者： | R49: 喫食量の把握 | W49: 頻度： | AA49: 回/ | AD49: 結果の 活用： | AF49: 有 無 | AK49: 検食 | AM49: 検食者 | AO49: 記録の保存 | AQ49: 喫食量把握 | AS49: 結果の活用 | AU49: 把握の方法
AK50: 有 | AL50: FALSE | AM50: 医師 | AN50: FALSE | AO50: 有 | AP50: FALSE | AQ50: 有 | AR50: FALSE | AS50: 有 | AT50: FALSE | AU50: 個別 | AV50: FALSE
A51: 有 無 | F51: 記録の保存： | I51: 有 無 | R51: 有 無 | W51: 把握方法： | Z51: 個別 全体(残食調査等) | AK51: 無 | AL51: FALSE | AM51: 管栄・栄 | AN51: FALSE | AO51: 無 | AP51: FALSE | AQ51: 無 | AR51: FALSE | AS51: 無 | AT51: FALSE | AU51: 全体 | AV51: FALSE
AM52: その他 | AN52: FALSE
A53: 嗜好調査 | F53: 頻度： | J53: 回／年 | L53: 結果の 活用： | N53: 有 無 | R53: 食材料費 | W53: 一般食 1人1日当たり | AA53: 特別食・療養食 1人1日当たり | AF53: 職員食 1人1食当たり | AK53: 嗜好調査 | AM53: 結果の活用 | AO53: 対象
AK54: 有 | AL54: FALSE | AM54: 有 | AN54: FALSE | AO54: 全体 | AP54: FALSE
A55: 有 無 | F55: 対象： | H55: （全体の約 | Q55: %） | Z55: 円 | AE55: 円 | AI55: 円 | AK55: 無 | AL55: FALSE | AM55: 無 | AN55: FALSE | AO55: 一部 | AP55: FALSE
A57: 栄養管理に関する会議 （給食委員会） | I57: 実施回数： | Q57: 回／年 | T57: 要領： | V57: 有 無 | AA57: 会議録の保存： | AE57: 有 無 | AK57: 給食委員会 | AM57: 要領 | AO57: 会議録
AK58: 有 | AL58: FALSE | AM58: 有 | AN58: FALSE | AO58: 有 | AP58: FALSE
I59: 構成職種 | J59: 施設 | L59: 施設長 | O59: 医師 | Q59: 管理栄養士 栄養士 | U59: 看護師 保健師 | X59: 調理師 調理員 | AA59: 介護 担当者 | AD59: その他 | AK59: 無 | AL59: FALSE | AM59: 無 | AN59: FALSE | AO59: 無 | AP59: FALSE
AK60: 施設 | AM60: 給食会社 | AO60: 内容
J61: 給食 会社 | L61: 管理栄養士 栄養士 | P61: 調理師 調理員 | S61: その他（ | AC61: ） | AK61: 施設長 | AL61: FALSE | AM61: 管栄・栄 | AN61: FALSE | AO61: 栄養管理 | AP61: FALSE
AK62: 医師 | AL62: FALSE | AM62: 調理師 | AN62: FALSE | AO62: 苦情 | AP62: FALSE
A63: 有 無 | I63: 内容 | J63: 栄養管理における課題の把握と課題解決のための改善策の検討 | AE63: 苦情処理 | AK63: 管栄・栄 | AL63: FALSE | AM63: その他 | AN63: FALSE | AO63: 連携 | AP63: FALSE
AK64: 看護・保健 | AO64: 献立 | AP64: FALSE
J65: 適切な栄養管理を行うための関係部門の連携強化 | AA65: 献立内容の検討 | AK65: 調理師 | AO65: その他 | AP65: FALSE
AK66: 介護 | AL66: FALSE
J67: その他（ | AI67: ) | AK67: その他 | AL67: FALSE
A69: 栄養アセスメントの実施 | I69: 対象： | K69: 全員 | N69: 一部（全体の約 | V69: ％） | AK69: 栄養アセス | AM69: 対象 | AO69: 把握項目
AK70: 有 | AL70: FALSE | AM70: 全員 | AN70: FALSE | AO70: 性 | AP70: FALSE | AQ70: 血液 | AR70: FALSE
I71: 把握項目 | K71: 性 | N71: 年齢 | Q71: 身長 | T71: I | W71: BMI | Z71: 身体活動レベル | AF71: 疾患 | AK71: 無 | AL71: FALSE | AM71: 一部 | AN71: FALSE | AO71: 年齢 | AP71: FALSE | AQ71: 嚥下
AO72: 身長 | AQ72: 食
A73: 有 無 | K73: 血液検査結果 | Q73: 摂食・嚥下機能 | W73: 食習慣 | AA73: 生活環境 | AO73: 体重 | AP73: FALSE | AQ73: 生活 | AR73: FALSE
AO74: BMI | AP74: FALSE | AQ74: その他 | AR74: FALSE
K75: その他（ | AI75: ） | AO75: 身活レ | AP75: FALSE
AO76: 疾患 | AP76: FALSE
A77: 施設の食事摂取基準 （食事せん規約） | I77: 設定している食事の種類： | O77: 一般食 | T77: 種類 | V77: 特別食 療養食 | AA77: 種類 | AC77: その他 | AH77: 種類
AK78: 目標量 | AM78: 食品構成
I79: 給与栄養目標量： | O79: 設定有（最終更新： | X79: 年 | AA79: 月 | AD79: 日 | AE79: ） | AF79: 設定無 | AK79: 有 | AL79: FALSE | AM79: 有 | AN79: FALSE
AK80: 無 | AL80: FALSE | AM80: 無 | AN80: FALSE
I81: 食品構成： | O81: 作成有（最終更新： | X81: 年 | AA81: 月 | AD81: 日 | AE81: ） | AF81: 作成無
A83: 給与栄養目標量と給与栄養量(10月実績の平均値) | R83: 給与栄養量の算出 | X83: 毎食分を算出 | AD83: 一日合計を算出 | AK83: 給与栄養量 | AM83: 算出
AK84: 有 | AL84: FALSE | AM84: 毎食 | AN84: FALSE | AO84: 一日計 | AP84: FALSE
A85: ※一般食のうち、最も提供数が多い食種を記入。 | R85: 有 無 | X85: 毎月の平均を算出 | AD85: 報告月のみ 月平均を算出 | AK85: 無 | AL85: FALSE | AM85: 毎月 | AN85: FALSE | AO85: 報告月 | AP85: FALSE
A86: （一般食の提供がない場合は、最も提供数が多い食種）
A87: 食種名： | R87: 栄養指導 | W87: 個別 | X87: 入院・入所 延べ件数 | AB87: 外来・通所 延べ件数 | AF87: 在宅訪問 延べ件数 | AK87: 食種 | AM87: 栄養指導
AK88: 朝食 | AL88: FALSE | AM88: 有 | AN88: FALSE
A89: 対象者： （年齢・性別等） | X89: 10月 ・ 年 | AA89: 件 | AB89: 10月 ・ 年 | AE89: 件 | AF89: 10月 ・ 年 | AI89: 件 | AK89: 昼食 | AL89: FALSE | AM89: 無 | AN89: FALSE
AK90: 夕食 | AL90: FALSE
A91: 下記に含む食事： | F91: 朝食 | I91: 昼食 | L91: 夕食 | O91: 間食 | R91: 有 無 | W91: 集団 | X91: 入院・入所 回数・延べ人数 | AD91: 外来・通所 回数・延べ人数 | AK91: 間食 | AL91: FALSE
A93: 栄養素等の名称 | G93: 単位 | J93: 目標量 | N93: 給与量 | X93: 10月 ・ 年 | Z93: 回 | AC93: 人 | AD93: 10月 ・ 年 | AF93: 回 | AI93: 人
AK94: 給与/目標（％） | AO94: 情報提供 | AQ94: 実施内容
A95: エネルギー | G95: kｃａｌ | R95: 健康・栄養情報 の提供 | W95: 実施内容 | X95: 献立の栄養成分表示 | AK95: E | AL95: =$N95/$J95 -> #DIV/0! | AO95: 有 | AP95: FALSE | AQ95: 栄養成分 | AR95: FALSE
AK96: P | AL96: =$N97/$J97 -> #DIV/0! | AO96: 無 | AP96: FALSE | AQ96: E | AR96: FALSE
A97: たんぱく質 | G97: ｇ | X97: ｴﾈﾙｷﾞｰ | AB97: たんぱく質 | AF97: 脂質 | AK97: F | AL97: =$N99/$J99 -> #DIV/0! | AQ97: P
AK98: Ca | AL98: =$N101/$J101 -> #DIV/0! | AQ98: F | AR98: FALSE
A99: 脂質 | G99: ｇ | X99: 食塩 | AA99: その他（ | AH99: ） | AK99: Fe | AL99: =$N103/$J103 -> #DIV/0! | AQ99: Na | AR99: FALSE
AK100: VA | AL100: =$N105/$J105 -> #DIV/0! | AQ100: 他 | AR100: FALSE
A101: カルシウム | G101: ｍｇ | X101: 献立表の提供 | AD101: 卓上メモ | AK101: VB1 | AL101: =$N107/$J107 -> #DIV/0! | AQ101: 献立 | AS101: 卓上 | AT101: FALSE
R102: 有 無 | AK102: VB2 | AL102: =$N109/$J109 -> #DIV/0! | AQ102: ポスター | AR102: FALSE | AS102: 便り
A103: 鉄 | G103: ｍｇ | X103: ポスターの掲示 | AD103: 給食便り等の配布 | AK103: VC | AL103: =$N111/$J111 -> #DIV/0! | AQ103: 実物 | AS103: 訪問 | AT103: FALSE
AK104: Fi | AL104: =$N113/$J113 -> #DIV/0! | AQ104: その他
A105: ビタミンA （レチノール当量） | G105: μｇ | X105: 実物展示 | AD105: 給食時の訪問 | AK105: Na | AL105: =$N115/$J115 -> #DIV/0!
AK106: E産生バランス
A107: ビタミンB１ | G107: ｍｇ | X107: その他（ | AI107: ） | AK107: P | AL107: =$N117/$J117 -> #VALUE!
AK108: F | AL108: =$N119/$J119 -> #VALUE!
A109: ビタミンB２ | G109: ｍｇ | R109: 栄養管理部門 従事者の研修 | X109: 参加回数（前年度実績） | AI109: 回 | AK109: C | AL109: =100-(AL107+AL108) -> #VALUE!
AK110: 野菜 | AO110: 研修 | AQ110: 研修内容
...

Sheet 入力用（別表）
A1: 【別表】
A2: 区分 | F2: 病 院 | U2: 委託業者 | AK2: 病院 | AL2: FALSE | AM2: 老健 | AN2: FALSE | AO2: 介護医療 | AP2: FALSE
F3: 氏 名 | M3: 勤務形態・従事年数 | U3: 氏 名 | AB3: 勤務形態・従事年数
M4: 常勤 | O4: 常勤 以外 | Q4: 管理栄養士・栄養士 従事年数 | AB4: 常勤 | AD4: 常勤 以外 | AF4: 管理栄養士・栄養士 従事年数 | AK4: 老福 | AL4: FALSE | AM4: 社福 | AN4: FALSE | AO4: その他 | AP4: FALSE
A6: 管理栄養士 | AK6: Ⅰ | AL6: FALSE | AM6: 管理栄養士 | AO6: 管理栄養士
A7: 管理栄養士 | AK7: Ⅰ | AL7: FALSE | AM7: 管理栄養士 | AO7: 管理栄養士
A8: 管理栄養士 | AK8: Ⅰ | AL8: FALSE | AM8: 管理栄養士 | AO8: 管理栄養士
A9: 管理栄養士 | AK9: Ⅰ | AL9: FALSE | AM9: 管理栄養士 | AO9: 管理栄養士
A10: 管理栄養士 | AK10: Ⅰ | AL10: FALSE | AM10: 管理栄養士 | AO10: 管理栄養士
A11: 管理栄養士 | AK11: Ⅰ | AL11: FALSE | AM11: 管理栄養士 | AO11: 管理栄養士
A12: 管理栄養士 | AK12: Ⅰ | AL12: FALSE | AM12: 管理栄養士 | AO12: 管理栄養士
A13: 管理栄養士 | AK13: Ⅰ | AL13: FALSE | AM13: 管理栄養士 | AO13: 管理栄養士
A14: 管理栄養士 | AK14: Ⅰ | AL14: FALSE | AM14: 管理栄養士 | AO14: 管理栄養士
A15: 管理栄養士 | AK15: Ⅰ | AL15: FALSE | AM15: 管理栄養士 | AO15: 管理栄養士
A16: 管理栄養士 | AK16: Ⅰ | AL16: FALSE | AM16: 管理栄養士 | AO16: 管理栄養士
A17: 管理栄養士 | AK17: Ⅰ | AL17: FALSE | AM17: 管理栄養士 | AO17: 管理栄養士
... A23: 栄養士 | AK23: Ⅰ | AL23: FALSE | AM23: 管理栄養士 | AO23: 管理栄養士

Sheet 【入力不要】集計用シート
A2: ALL
A3: 施設名称 | B3: ID | C3: 施設の種類 | D3: 運営形態 | E3: 食数 区分 | F3: 栄養士 区分 | G3: 特定届等 | H3: 特定開始日 （特定変更日） | I3: 郵便番号 | J3: 所在地 | K3: 電話番号 | L3: FAX | M3: 報告書及び届出記載 メ-ルアドレス | N3: 回答（担当） メ-ルアドレス | O3: ﾒ-ﾙ等回答者（作成） ※敬称略 | P3: 給食開始 年月日 | Q3: 設置者_法人名 役職名 設置者名 | R3: 設置者_ 郵便番号 | S3: 設置者住所 | T3: 設置者_ 電話番号 | U3: 栄養管理報告書 種別 | V3: 巡回年度（直近） | W3: 備考（巡回・監査について） | X3: 備考（栄養管理報告書について） | Y3: 備考（その他） | Z3: 尼病研 | AA3: 高齢者 連絡会
A4: =入力用シート!$A$8 -> 0 | D4: =IF(AND(入力用シート!$AX$34=TRUE, 入力用シート!$AX$35=TRUE), "エラー", IF(入力用シート!$AX$34=TRUE, "直営", IF(入力用シート!$AX$35=TRUE, "委託", "エラー"))) -> エラー | I4: =入力用シート!$E$12 -> 0 | J4: =入力用シート!$D$13 -> 0 | K4: =入力用シート!$C$15 -> 0 | L4: =入力用シート!$K$15 -> 0 | M4: =入力用シート!$D$16 -> 0 | N4: =入力用シート!$V$16 -> 0 | O4: =入力用シート!$V$13 -> 0 | Q4: =入力用シート!$V$7 -> 0 | R4: =入力用シート!$W$9 -> 0 | S4: =入力用シート!$V$10 -> 0
A7: 種類別
A8: 施設名称 | B8: ID | C8: 許可病床数 入所定員等 | D8: 給食数 （届出・朝） | E8: 給食数 （届出・昼） | F8: 給食数 （届出・夕） | G8: 給食数 （届出・他） | H8: 給食数 （届出・計） | I8: 給食数 （実数・朝） | J8: 給食数 （実数・昼） | K8: 給食数 （実数・夕） | L8: 給食数 （実数・他） | M8: 給食数 （実数・計） | N8: 管理栄養士 （届出） | O8: 管理栄養士（実数） （施設・常） | P8: 管理栄養士（実数） （施設・非） | Q8: 管理栄養士（実数） （受託・常） | R8: 管理栄養士（実数） （受託・非） | S8: 栄養士 （届出） | T8: 栄養士 （実数） （施設・常） | U8: 栄養士 （実数） （施設・非） | V8: 栄養士 （実数） （受託・常） | W8: 栄養士 （実数） （受託・非） | X8: 調理師 （実数） （施設・常） | Y8: 調理師 （実数） （施設・非） | Z8: 調理師 （実数） （受託・常） | AA8: 調理師 （実数） （受託・非） | AB8: 委託給食会社名 | AC8: 委託内容 （施設外調理） | AD8: 調理師 （実数） （合計・常） | AE8: 検食 | AF8: 検食者 （医師） | AG8: 検食者 （管栄・栄） | AH8: 検食者 （他） | AI8: 検食 （記録保存） | AJ8: 喫食量の把握 | AK8: （病） 嗜好調査 （事） 喫食調査 | AL8: 食材料費 （一般食） | AM8: 食材料費 （特・療） | AN8: 食材料費 （職員） | AO8: 会議 | AP8: 会議 （回数） | AQ8: 会議 ［内容］ （課題解決） | AR8: 会議 ［内容］ （苦情処理） | AS8: 会議 ［内容］ （連携強化） | AT8: 会議 ［内容］ （献立検討） | AU8: アセスメント | AV8: アセスメント （対象） | AW8: 目標量 | AX8: 目標量 （更新時期） | AY8: 食品構成 | AZ8: 食品構成 （更新時期） | BA8: 含まれる 食数 | BB8: 目標 （E） 整数 | BC8: 給与 （E） 整数 | BD8: 目標 （P） 整数 | BE8: 給与 （P） 整数 | BF8: 目標 （F） 整数 | BG8: 給与 （F) 整数 | BH8: 目標 （Ca） 整数 | BI8: 給与 （Ca） 整数 | BJ8: 目標 （Fe） 下1桁 | BK8: 給与 （Fe） 下1桁 | BL8: 目標 （VA） 整数 | BM8: 給与 （VA） 整数 | BN8: 目標 （VB1） 下2桁 | BO8: 給与 （VB1） 下2桁 | BP8: 目標 （VB2） 下2桁 | BQ8: 給与 （VB2） 下2桁 | BR8: 目標 （VC） 整数 | BS8: 給与 （VC） 整数 | BT8: 目標 （Fi） 下1桁 | BU8: 給与 （Fｉ） 下1桁 | BV8: 目標 （Nacl） 下1桁 | BW8: 給与 （Nacl） 下1桁 | BX8: 目標 （P：%E） | BY8: 給与 （P：%E） | BZ8: 目標 （F：%E） | CA8: 給与 （F：%E） | CB8: 目標 （C：%E） | CC8: 給与 （C：%E） | CD8: 目標 （緑黄色） 整数 | CE8: 給与 （緑黄色） 整数 | CF8: 目標 （他野菜） 整数 | CG8: 給与 （他野菜） 整数 | CH8: 目標 （野菜量） | CI8: 給与 （野菜量） | CJ8: 給与栄養量 | CK8: 給与栄養量 算出頻度 | CL8: 栄養指導 | CM8: 栄養指導 （入院） | CN8: 栄養指導 （外来） | CO8: 栄養指導 （在宅） | CP8: 栄養指導 （入院集団） | CQ8: 栄養指導 （外来集団） | CR8: 情報提供 | CS8: 情報提供 （成分表示） | CT8: 研修 | CU8: 食・感 マニュアル | CV8: 食・感 マニュアル （更新時期） | CW8: 災害 マニュアル | CX8: 災害 マニュアル （更新時期） | CY8: 備蓄 （水） | CZ8: 備蓄(水) 量（L×人×日分） | DA8: 備蓄 （食） | DB8: 備蓄（食） 量（人×日分） | DC8: 施設外連携 | DD8: 施設外連携 （系列施設） | DE8: 施設外連携 （近隣施設） | DF8: 施設外連携 （給食会社） | DG8: 施設外連携 （その他）
A9: =入力用シート!$A$8 -> 0 | C9: =入力用シート!$R$19 -> 0 | D9: =入力用シート!U43 -> 0 | E9: =入力用シート!X43 -> 0 | F9: =入力用シート!AA43 -> 0 | G9: =入力用シート!AD43 -> 0 | H9: =SUM(D9:G9) -> 0 | I9: =入力用シート!$U$41 -> 0 | J9: =入力用シート!$X$41 -> 0 | K9: =入力用シート!$AA$41 -> 0 | L9: =入力用シート!$AD$41 -> 0 | O9: =COUNTIF(入力用シート!$M$24:$M$25, "〇") + COUNTIF(入力用シート!$M$24:$M$25, "○") + COUNTIF('入力用（別表）'!$M$6:$M$17, "〇") + COUNTIF('入力用（別表）'!$M$6:$M$17, "○") -> 0 | P9: =COUNTIF(入力用シート!$O$24:$O$25, "〇") + COUNTIF(入力用シート!$O$24:$O$25, "○") + COUNTIF('入力用（別表）'!$O$6:$O$17, "〇") + COUNTIF('入力用（別表）'!$O$6:$O$17, "○") -> 0 | Q9: =COUNTIF(入力用シート!$AB$24:$AB$25, "〇") + COUNTIF(入力用シート!$AB$24:$AB$25, "○") + COUNTIF('入力用（別表）'!$AB$6:$AB$17, "〇") + COUNTIF('入力用（別表）'!$AB$6:$AB$17, "○") -> 0 | R9: =COUNTIF(入力用シート!$AD$24:$AD$25, "〇") + COUNTIF(入力用シート!$AD$24:$AD$25, "○") + COUNTIF('入力用（別表）'!$AD$6:$AD$17, "〇") + COUNTIF('入力用（別表）'!$AD$6:$AD$17, "○") -> 0 | T9: =COUNTIF(入力用シート!$M$26:$M$27, "〇") + COUNTIF(入力用シート!$M$26:$M$27, "○") + COUNTIF('入力用（別表）'!$M$18:$M$23, "〇") + COUNTIF('入力用（別表）'!$M$18:$M$23, "○") -> 0 | U9: =COUNTIF(入力用シート!$O$26:$O$27, "〇") + COUNTIF(入力用シート!$O$26:$O$27, "○") + COUNTIF('入力用（別表）'!$O$18:$O$23, "〇") + COUNTIF('入力用（別表）'!$O$18:$O$23, "○") -> 0 | V9: =COUNTIF(入力用シート!$AB$26:$AB$27, "〇") + COUNTIF(入力用シート!$AB$26:$AB$27, "○") + COUNTIF('入力用（別表）'!$AB$18:$AB$23, "〇") + COUNTIF('入力用（別表）'!$AB$18:$AB$23, "○") -> 0 | W9: =COUNTIF(入力用シート!$AD$26:$AD$27, "〇") + COUNTIF(入力用シート!$AD$26:$AD$27, "○") + COUNTIF('入力用（別表）'!$AD$18:$AD$23, "〇") + COUNTIF('入力用（別表）'!$AD$18:$AD$23, "○") -> 0 | X9: =入力用シート!$H$28 -> 0 | Y9: =入力用シート!$P$28 -> 0 | Z9: =入力用シート!$W$28 -> 0 | AA9: =入力用シート!$AE$28 -> 0 | AB9: =IF(入力用シート!I31="", "", 入力用シート!I31) | AC9: =IF(入力用シート!$AX$44=TRUE, 1, IF(入力用シート!$AY$44=TRUE, 2, IF(入力用シート!$AX$45=TRUE, 3, ""))) | AE9: =IF(AND(入力用シート!$AL$50=TRUE, 入力用シート!$AL$51=TRUE), "エラー", IF(入力用シート!$AL$50=TRUE, 1, IF(入力用シート!$AL$51=TRUE, 2, "エラー"))) -> エラー | AF9: =IF(入力用シート!$AN$50=TRUE,1,"") | AG9: =IF(入力用シート!$AN$51=TRUE,1,"") | AH9: =IF(入力用シート!$AN$52=TRUE,1,"") | AI9: =IF(AND(入力用シート!$AP$50=TRUE, 入力用シート!$AP$51=TRUE), "エラー", IF(入力用シート!$AP$50=TRUE, 1, IF(入力用シート!$AP$51=TRUE, 2, "エラー"))) -> エラー | AJ9: =IF(AND(入力用シート!$AR$50=TRUE, 入力用シート!$AR$51=TRUE), "エラー", IF(入力用シート!$AR$50=TRUE, 1, IF(入力用シート!$AR$51=TRUE, 2, "エラー"))) -> エラー | AK9: =IF(AND(入力用シート!$AL$54=TRUE, 入力用シート!$AL$55=TRUE), "エラー", IF(入力用シート!$AL$54=TRUE, 1, IF(入力用シート!$AL$55=TRUE, 2, "エラー"))) -> エラー | AL9: =入力用シート!$W$55 -> 0 | AM9: =入力用シート!$AA$55 -> 0 | AN9: =入力用シート!$AF$55 -> 0 | AO9: =IF(AND(入力用シート!$AL$58=TRUE, 入力用シート!$AL$59=TRUE), "エラー", IF(入力用シート!$AL$58=TRUE, 1, IF(入力用シート!$AL$59=TRUE, 2, "エラー"))) -> エラー | AP9: =IF(入力用シート!$M$57="12～", 1, IF(OR(入力用シート!$M$57&""="6", 入力用シート!$M$57&""="7", 入力用シート!$M$57&""="8", 入力用シート!$M$57&""="9", 入力用シート!$M$57&""="10", 入力用シート!$M$57&""="11"), 2, IF(OR(入力用シート!$M$57&""="1", 入力用シート!$M$57&""="2", 入力用シート!$M$57&""="3", 入力用シート!$M$57&""="4", 入力用シート!$M$57&""="5"), 3, ""))) | AQ9: =IF(入力用シート!$AP$61=TRUE,1,"") | AR9: =IF(入力用シート!$AP$62=TRUE,1,"") | AS9: =IF(入力用シート!$AP$63=TRUE,1,"") | AT9: =IF(入力用シート!$AP$64=TRUE,1,"") | AU9: =IF(AND(入力用シート!$AL$70=TRUE, 入力用シート!$AL$71=TRUE), "エラー", IF(入力用シート!$AL$70=TRUE, 1, IF(入力用シート!$AL$71=TRUE, 2, "エラー"))) -> エラー | AV9: =IF(AND(入力用シート!$AN$70=TRUE, 入力用シート!$T$69<>""), "エラー", IF(入力用シート!$AN$70=TRUE, 100, IF(入力用シート!$T$69<>"", 入力用シート!$T$69, ""))) | AW9: =IF(AND(入力用シート!$AL$79=TRUE, 入力用シート!$AL$80=TRUE), "エラー", IF(入力用シート!$AL$79=TRUE, 1, IF(入力用シート!$AL$80=TRUE, 2, "エラー"))) -> エラー | AX9: =IF(入力用シート!$V$80="", "", SUBSTITUTE(SUBSTITUTE(入力用シート!$V$79, "令和", "R"), "平成", "H") & 入力用シート!$V$80 & "年" & 入力用シート!$Y$79 & "月") | AY9: =IF(AND(入力用シート!$AN$79=TRUE, 入力用シート!$AN$80=TRUE), "エラー", IF(入力用シート!$AN$79=TRUE, 1, IF(入力用シート!$AN$80=TRUE, 2, "エラー"))) -> エラー | AZ9: =IF(入力用シート!$V$82="", "", SUBSTITUTE(SUBSTITUTE(入力用シート!$V$81, "令和", "R"), "平成", "H") & 入力用シート!$V$82 & "年" & 入力用シート!$Y$81 & "月") | BA9: =IF(入力用シート!$AL$88=TRUE, 1, 0) + IF(入力用シート!$AL$89=TRUE, 1, 0) + IF(入力用シート!$AL$90=TRUE, 1, 0) + IF(入力用シート!$AL$91=TRUE, 0.5, 0) -> 0 | BB9: =入力用シート!$J$95 -> 0 | BC9: =入力用シート!$N$95 -> 0 | BD9: =入力用シート!$J$97 -> 0 | BE9: =入力用シート!$N$97 -> 0 | BF9: =入力用シート!$J$99 -> 0 | BG9: =入力用シート!$N$99 -> 0 | BH9: =入力用シート!$J$101 -> 0 | BI9: =入力用シート!$N$101 -> 0 | BJ9: =入力用シート!$J$103 -> 0 | BK9: =入力用シート!$N$103 -> 0 | BL9: =入力用シート!$J$105 -> 0 | BM9: =入力用シート!$N$105 -> 0 | BN9: =入力用シート!$J$107 -> 0 | BO9: =入力用シート!$N$107 -> 0 | BP9: =入力用シート!$J$109 -> 0 | BQ9: =入力用シート!$N$109 -> 0 | BR9: =入力用シート!$J$111 -> 0 | BS9: =入力用シート!$N$111 -> 0 | BT9: =入力用シート!$J$113 -> 0 | BU9: =入力用シート!$N$113 -> 0 | BV9: =入力用シート!$J$115 -> 0 | BW9: =入力用シート!$N$115 -> 0 | CD9: =入力用シート!$J$123 -> 0 | CE9: =入力用シート!$N$123 -> 0 | CF9: =入力用シート!$J$125 -> 0 | CG9: =入力用シート!$N$125 -> 0 | CJ9: =IF(AND(入力用シート!$AL$84=TRUE, 入力用シート!$AL$85=TRUE), "エラー", IF(入力用シート!$AL$84=TRUE, 1, IF(入力用シート!$AL$85=TRUE, 2, "エラー"))) -> エラー | CK9: =IF((入力用シート!$AN$84=TRUE)+(入力用シート!$AP$84=TRUE)+(入力用シート!$AN$85=TRUE)+(入力用シート!$AP$85=TRUE)>1, "エラー", IF(入力用シート!$AN$84=TRUE, 1, IF(入力用シート!$AP$84=TRUE, 2, IF(入力用シート!$AN$85=TRUE, 3, IF(入力用シート!$AP$85=TRUE, 4, ""))))) | CL9: =IF(AND(入力用シート!$AN$88=TRUE, 入力用シート!$AN$89=TRUE), "エラー", IF(入力用シート!$AN$88=TRUE, 1, IF(入力用シート!$AN$89=TRUE, 2, "エラー"))) -> エラー | CM9: =入力用シート!$X$90 -> 0 | CN9: =入力用シート!$AB$90 -> 0 | CO9: =入力用シート!$AF$90 -> 0 | CP9: =入力用シート!$X$94 -> 0 | CQ9: =入力用シート!$AD$94 -> 0 | CR9: =IF(AND(入力用シート!$AP$95=TRUE, 入力用シート!$AP$96=TRUE), "エラー", IF(入力用シート!$AP$95=TRUE, 1, IF(入力用シート!$AP$96=TRUE, 2, "エラー"))) -> エラー | CS9: =IF(入力用シート!$AR$95=TRUE,1,"") | CT9: =IF(AND(入力用シート!$AP$111=TRUE, 入力用シート!$AP$112=TRUE), "エラー", IF(入力用シート!$AP$111=TRUE, 1, IF(入力用シート!$AP$112=TRUE, 2, "エラー"))) -> エラー | CU9: =IF(AND(入力用シート!$AL$116=TRUE, 入力用シート!$AL$117=TRUE), "エラー", IF(入力用シート!$AL$116=TRUE, 1, IF(入力用シート!$AL$117=TRUE, 2, "エラー"))) -> エラー | CV9: =IF(入力用シート!$AC$115="", "", 入力用シート!$AC$115 & "年" & 入力用シート!$AE$115 & "月") | CW9: =IF(AND(入力用シート!$AL$119=TRUE, 入力用シート!$AL$120=TRUE), "エラー", IF(入力用シート!$AL$119=TRUE, 1, IF(入力用シート!$AL$120=TRUE, 2, "エラー"))) -> エラー | CX9: =IF(入力用シート!$AC$117="", "", 入力用シート!$AC$117 & "年" & 入力用シート!$AE$117 & "月") | CY9: =IF(AND(入力用シート!$AL$122=TRUE, 入力用シート!$AL$123=TRUE), "エラー", IF(入力用シート!$AL$122=TRUE, 1, IF(入力用シート!$AL$123=TRUE, 2, "エラー"))) -> エラー | CZ9: =IF(入力用シート!$Z$119="", "", 入力用シート!$Z$119 & "L " & 入力用シート!$AB$119 & "人 " & 入力用シート!$AD$119 & "日分") | DA9: =IF(AND(入力用シート!$AL$125=TRUE, 入力用シート!$AL$126=TRUE), "エラー", IF(入力用シート!$AL$125=TRUE, 1, IF(入力用シート!$AL$126=TRUE, 2, "エラー"))) -> エラー | DB9: =IF(入力用シート!$Z$121="", "", 入力用シート!$Z$121 & "人 " & 入力用シート!$AC$121 & "日分") | DC9: =IF(COUNTIF(入力用シート!$AN$116:$AN$119, TRUE)>0, 1, 2) -> 2 | DD9: =IF(入力用シート!$AN$116=TRUE,1,"") | DE9: =IF(入力用シート!$AN$117=TRUE,1,"") | DF9: =IF(入力用シート!$AN$118=TRUE,1,"") | DG9: =IF(入力用シート!$AN$119=TRUE,1,"")

Sheet R4_給食設栄養管理報告書（病・高・障）PDF変換用
A1: 給食施設栄養管理報告書 （病院・高齢者・障害者施設等） | AB1: 令和 | AF1: 年10月分
A3: 給食施設の名称 | R3: 施設の設置者
R4: （法人名・職・氏名）
R5: 給食責任者
A6: 所在地 | D6: 〒 | R6: （職・氏名）
A7: 尼崎市 | R7: 報告書作成者
R8: （職・氏名）
A9: TEL： | I9: FAX： | R9: 連絡先TEL
A10: ﾒｰﾙｱﾄﾞﾚｽ： | R10: 連絡先ﾒｰﾙｱﾄﾞﾚｽ
A12: 施設の種類
AA13: （ | AI13: ）
A14: 給食従事者の人数 | F14: 施 設 | L14: 受託給食会社 | R14: 常勤の管理栄養士・栄養士 | AA14: 許可病床数 入所定員数 | AE14: 入院時食事療養 （病院・診療所）
F15: 常勤 | I15: 常勤以外 | L15: 常勤 | O15: 常勤以外
B16: 管理栄養士 | R16: 氏名： | AE16: Ⅰ Ⅱ
B18: 栄 養 士 | R18: 給食数 | U18: 朝食 | X18: 昼食 | AA18: 夕食 | AD18: その他 | AG18: 1日合計
B20: 調 理 師 | R20: 一般食 | S20: 常食
B22: 調理従事者 | S22: その他
B24: 事 務 職 | R24: 特別食 療養食
B26: そ の 他 | R26: 職員食
B28: 合 計 | R28: 合計
A30: 運営方法 | E30: 受託給食会社 | F30: 会社名 | T30: 委託内容
A32: 直営 委託 | F32: 所在地
F35: TEL
AI36: ）
A37: 適温給食の 実施方法 | F37: 保温保冷配膳車 | M37: 保温トレイ | R37: 保温食器 | W37: 配膳時間 | AA37: 朝食 | AD37: 昼食 | AG37: 夕食
F39: 保冷配膳車 | K39: その他（ | V39: ) | AB39: ： | AE39: ： | AH39: ：
A41: 毎食の検食 | F41: 検食者： | R41: 喫食量の把握 | W41: 頻度： | AA41: 回/ | AD41: 結果の 活用： | AF41: 有 無
A43: 有 無 | F43: 記録の保存： | I43: 有 無 | R43: 有 無 | W43: 把握方法： | Z43: 個別 全体(残食調査等)
A45: 嗜好調査 | F45: 頻度： | J45: 回／年 | L45: 結果の 活用： | N45: 有 無 | R45: 食材料費 | W45: 一般食 1人1日当たり | AA45: 特別食・療養食 1人1日当たり | AF45: 職員食 1人1食当たり
A47: 有 無 | F47: 対象： | H47: 全員 | K47: 一部（全体の約 | Q47: %） | Z47: 円 | AE47: 円 | AI47: 円
A49: 栄養管理に関する会議 （給食委員会） | I49: 実施回数： | Q49: 回／年 | T49: 要領： | V49: 有 無 | AA49: 会議録の保存： | AE49: 有 無
I51: 構成職種 | J51: 施設 | L51: 施設長 | O51: 医師 | Q51: 管理栄養士 栄養士 | U51: 看護師 保健師 | X51: 調理師 調理員 | AA51: 介護 担当者 | AD51: その他
J53: 給食 会社 | L53: 管理栄養士 栄養士 | P53: 調理師 調理員 | S53: その他（ | AC53: ）
A55: 有 無 | I55: 内容 | J55: 栄養管理における課題の把握と課題解決のための改善策の検討 | AE55: 苦情処理
J57: 適切な栄養管理を行うための関係部門の連携強化 | AA57: 献立内容の検討
J59: その他（ | AI59: )
A61: 栄養アセスメントの実施 | I61: 対象： | K61: 全員 | N61: 一部（全体の約 | V61: ％）
I63: 把握項目 | K63: 性 | N63: 年齢 | Q63: 身長 | T63: 体重 | W63: BMI | Z63: 身体活動レベル | AF63: 疾患
A65: 有 無 | K65: 血液検査結果 | Q65: 摂食・嚥下機能 | W65: 食習慣 | AA65: 生活環境
K67: その他（ | AI67: ）
A69: 施設の食事摂取基準 （食事せん規約） | I69: 設定している食事の種類： | O69: 一般食 | T69: 種類 | V69: 特別食 療養食 | AA69: 種類 | AC69: その他 | AH69: 種類
I71: 給与栄養目標量： | O71: 設定有（最終更新： | X71: 年 | AA71: 月 | AD71: 日 | AE71: ） | AF71: 設定無
I73: 食品構成： | O73: 作成有（最終更新： | X73: 年 | AA73: 月 | AD73: 日 | AE73: ） | AF73: 作成無
A75: 給与栄養目標量と給与栄養量(10月実績の平均値) | R75: 給与栄養量の算出 | X75: 毎食分を算出 | AD75: 一日合計を算出
A77: ※一般食のうち、最も提供数が多い食種を記入。 | R77: 有 無 | X77: 毎月の平均を算出 | AD77: 報告月のみ 月平均を算出
A78: （一般食の提供がない場合は、最も提供数が多い食種）
A79: 食種名： | R79: 栄養指導 | W79: 個別 | X79: 入院・入所 延べ件数 | AB79: 外来・通所 延べ件数 | AF79: 在宅訪問 延べ件数
A81: 対象者： （年齢・性別等） | X81: 10月 ・ 年 | AA81: 件 | AB81: 10月 ・ 年 | AE81: 件 | AF81: 10月 ・ 年 | AI81: 件
A83: 下記に含む食事： | F83: 朝食 | I83: 昼食 | L83: 夕食 | O83: 間食 | R83: 有 無 | W83: 集団 | X83: 入院・入所 回数・延べ人数 | AD83: 外来・通所 回数・延べ人数
A85: 栄養素等の名称 | G85: 単位 | J85: 目標量 | N85: 給与量 | X85: 10月 ・ 年 | Z85: 回 | AC85: 人 | AD85: 10月 ・ 年 | AF85: 回 | AI85: 人
A87: エネルギー | G87: kｃａｌ | R87: 健康・栄養情報 の提供 | W87: 実施内容 | X87: 献立の栄養成分表示
A89: たんぱく質 | G89: ｇ | X89: ｴﾈﾙｷﾞｰ | AB89: たんぱく質 | AF89: 脂質
A91: 脂質 | G91: ｇ | X91: 食塩 | AA91: その他（ | AH91: ）
A93: カルシウム | G93: ｍｇ | X93: 献立表の提供 | AD93: 卓上メモ
R94: 有 無
A95: 鉄 | G95: ｍｇ | X95: ポスターの掲示 | AD95: 給食便り等の配布
A97: ビタミンA （レチノール当量） | G97: μｇ | X97: 実物展示 | AD97: 給食時の訪問
A99: ビタミンB１ | G99: ｍｇ | X99: その他（ | AI99: ）
A101: ビタミンB２ | G101: ｍｇ | R101: 栄養管理部門 従事者の研修 | X101: 参加回数（前年度実績） | AI101: 回
A103: ビタミンC | G103: ｍｇ | X103: 研修内容 | Y103: 栄養関係 | AB103: 疾病関係 | AE103: 調理技術 | AH103: 衛生
R104: 有 無
A105: 食物繊維総量 | G105: ｇ | Y105: その他（ | AI105: ）
A107: 食塩相当量 | G107: ｇ | R107: 非常時の対応 | S107: 食中毒・感染症 対策ﾏﾆｭｱﾙ | X107: 有（最終更新： | AD107: 年 | AF107: 月） | AG107: 無
A109: エネルギー産生 栄養素バランス | C109: たんぱく質 | G109: %ｴﾈﾙｷﾞｰ | J109: =IF($J$87="","",(J89*4/$J$87)*100) | N109: =IF($N$87="","",(N89*4/$N$87)*100) | S109: 災害対策ﾏﾆｭｱﾙ | X109: 有（最終更新： | AD109: 年 | AF109: 月） | AG109: 無
C111: 脂質 | G111: %ｴﾈﾙｷﾞｰ | J111: =IF($J$87="","",(J91*9/$J$87)*100) | N111: =IF($N$87="","",(N91*9/$N$87)*100) | S111: 水の備蓄 | X111: 有（ | AA111: ℓ× | AC111: 人× | AE111: 日分） | AG111: 無
C113: 炭水化物 | G113: %ｴﾈﾙｷﾞｰ | J113: =IF(J87="","",100-(J109+J111)) | N113: =IF(N87="","",100-(N109+N111)) | S113: 食料の備蓄 | X113: 有（ | AB113: 人× | AE113: 日分） | AG113: 無
A115: 野菜類 | C115: 緑黄色野菜 | G115: ｇ | S115: 施設外との 連携体制 | X115: 系列施設 | AA115: 近隣施設 | AD115: 給食会社 | AG115: 無
C117: その他の野菜 | G117: ｇ | X117: その他（ | AF117: ）
A119: 《給食・栄養管理における施設の特徴、独自の取組み》 | R119: 《栄養管理における現在の課題》
A125: 《地域連携のニーズや保健所主催の研修等への希望》 | R125: 《課題に対する改善策とその評価》
A132: 今後、書類の提出、研修会の案内について、メールなど電子申請を希望する。

Sheet PDF変換用_設栄養管理報告書（病院・高齢者・障害者施設等） 
A1: 給食施設栄養管理報告書 （病院・高齢者・障害者施設等） | AB1: 令和 | AF1: 年10月分
A3: 給食施設の名称 | R3: 施設の設置者
R4: （法人名・職・氏名）
R5: 給食責任者
A6: 所在地 | D6: 〒 | R6: （職・氏名）
A7: 尼崎市 | R7: 報告書作成者
R8: （職・氏名）
A9: TEL： | I9: FAX： | R9: 連絡先TEL
A10: ﾒｰﾙｱﾄﾞﾚｽ： | R10: 連絡先ﾒｰﾙｱﾄﾞﾚｽ
A12: 施設の種類
AA13: （ | AI13: ）
A14: 給食従事者の人数 | F14: 施 設 | L14: 受託給食会社 | R14: 常勤の管理栄養士・栄養士 | AA14: 許可病床数 入所定員数 | AE14: 入院時食事療養 （病院・診療所）
F15: 常勤 | I15: 常勤以外 | L15: 常勤 | O15: 常勤以外
B16: 管理栄養士 | R16: 氏名： | AE16: Ⅰ Ⅱ
B18: 栄 養 士 | R18: 給食数 | U18: 朝食 | X18: 昼食 | AA18: 夕食 | AD18: その他 | AG18: 1日合計
B20: 調 理 師 | R20: 一般食 | S20: 常食
B22: 調理従事者 | S22: その他
B24: 事 務 職 | R24: 特別食 療養食
B26: そ の 他 | R26: 職員食
B28: 合 計 | R28: 合計
A30: 運営方法 | E30: 受託給食会社 | F30: 会社名 | T30: 委託内容 | U30: 献立作成 | Z30: 食材購入 | AE30: 調理・盛付
A32: 直営 | F32: 所在地 | U32: 配膳 | Z32: 下膳 | AE32: 食器洗浄
A34: 委託 | F34: TEL | U34: 施設外調理 | Z34: その他（ | AI34: )
A36: 適温給食の 実施方法 | F36: 保温保冷配膳車 | M36: 保温トレイ | R36: 保温食器 | W36: 配膳時間 | AA36: 朝食 | AD36: 昼食 | AG36: 夕食
F38: 保冷配膳車 | K38: その他（ | V38: ) | AB38: ： | AE38: ： | AH38: ：
A40: 毎食の検食 | F40: 検食者： | R40: 喫食量の把握 | W40: 頻度： | AA40: 回/ | AD40: 結果の 活用： | AF40: 有 無
A42: 有 無 | F42: 記録の保存： | I42: 有 無 | R42: 有 無 | W42: 把握方法： | Z42: 個別 全体(残食調査等)
A44: 嗜好調査 | F44: 頻度： | J44: 回／年 | L44: 結果の 活用： | N44: 有 無 | R44: 食材料費 | W44: 一般食 1人1日当たり | AA44: 特別食・療養食 1人1日当たり | AF44: 職員食 1人1食当たり
A46: 有 無 | F46: 対象： | H46: 全員 | K46: 一部（全体の約 | Q46: %） | Z46: 円 | AE46: 円 | AI46: 円
A48: 栄養管理に関する会議 （給食委員会） | I48: 実施回数： | Q48: 回／年 | T48: 要領： | V48: 有 無 | AA48: 会議録の保存： | AE48: 有 無
I50: 構成職種 | J50: 施設 | L50: 施設長 | O50: 医師 | Q50: 管理栄養士 栄養士 | U50: 看護師 保健師 | X50: 調理師 調理員 | AA50: 介護 担当者 | AD50: その他
J52: 給食 会社 | L52: 管理栄養士 栄養士 | P52: 調理師 調理員 | S52: その他（ | AC52: ）
A54: 有 無 | I54: 内容 | J54: 栄養管理における課題の把握と課題解決のための改善策の検討 | AE54: 苦情処理
J56: 適切な栄養管理を行うための関係部門の連携強化 | AA56: 献立内容の検討
J58: その他（ | AI58: )
A60: 栄養アセスメントの実施 有 無 | I60: 対象： | K60: 全員 | N60: 一部（全体の約 | V60: ％）
I62: 把握項目 | K62: 性 | N62: 年齢 | Q62: 身長 | T62: 体重 | W62: BMI | Z62: 身体活動レベル | AF62: 疾患
K64: 血液検査結果 | Q64: 摂食・嚥下機能 | W64: 食習慣 | AA64: 生活環境
K66: その他（ | AI66: ）
A68: 施設の食事摂取基準 （食事せん規約） | I68: 設定している食事の種類： | O68: 一般食 | T68: 種類 | V68: 特別食 療養食 | AA68: 種類 | AC68: その他 | AH68: 種類
I70: 給与栄養目標量： | O70: 設定有（最終更新： | X70: 年 | AA70: 月 | AD70: 日 | AE70: ） | AF70: 設定無
I72: 食品構成： | O72: 作成有（最終更新： | X72: 年 | AA72: 月 | AD72: 日 | AE72: ） | AF72: 作成無
A74: 給与栄養目標量と給与栄養量(10月実績の平均値) | R74: 給与栄養量の算出 有 無 | X74: 毎食分を算出 | AD74: 一日合計を算出
A76: ※一般食のうち、最も提供数が多い食種を記入。 | X76: 毎月の平均を算出 | AD76: 報告月のみ 月平均を算出
A77: （一般食の提供がない場合は、最も提供数が多い食種）
A78: 食種名： | R78: 栄養指導 有 無 | W78: 個別 | X78: 入院・入所 延べ件数 | AB78: 外来・通所 延べ件数 | AF78: 在宅訪問 延べ件数
A80: 対象者： （年齢・性別等） | X80: 10月 ・ 年 | AA80: 件 | AB80: 10月 ・ 年 | AE80: 件 | AF80: 10月 ・ 年 | AI80: 件
A82: 下記に含む食事： | F82: 朝食 | I82: 昼食 | L82: 夕食 | O82: 間食 | W82: 集団 | X82: 入院・入所 回数・延べ人数 | AD82: 外来・通所 回数・延べ人数
A84: 栄養素等の名称 | G84: 単位 | J84: 目標量 | N84: 給与量 | X84: 10月 ・ 年 | Z84: 回 | AC84: 人 | AD84: 10月 ・ 年 | AF84: 回 | AI84: 人
A86: エネルギー | G86: kｃａｌ | R86: 健康・栄養情報 の提供 有 無 | W86: 実施内容 | X86: 献立の栄養成分表示
A88: たんぱく質 | G88: ｇ | X88: ｴﾈﾙｷﾞｰ | AB88: たんぱく質 | AF88: 脂質
A90: 脂質 | G90: ｇ | X90: 食塩 | AA90: その他（ | AH90: ）
A92: カルシウム | G92: ｍｇ | X92: 献立表の提供 | AD92: 卓上メモ
A94: 鉄 | G94: ｍｇ | X94: ポスターの掲示 | AD94: 給食便り等の配布
A96: ビタミンA （レチノール当量） | G96: μｇ | X96: 実物展示 | AD96: 給食時の訪問
A98: ビタミンB１ | G98: ｍｇ | X98: その他（ | AI98: ）
A100: ビタミンB２ | G100: ｍｇ | R100: 栄養管理部門 従事者の研修 有 無 | X100: 参加回数（前年度実績） | AI100: 回
A102: ビタミンC | G102: ｍｇ | X102: 研修内容 | Y102: 栄養関係 | AB102: 疾病関係 | AE102: 調理技術 | AH102: 衛生
A104: 食物繊維総量 | G104: ｇ | Y104: その他（ | AI104: ）
A106: 食塩相当量 | G106: ｇ | R106: 非常時の対応 | S106: 食中毒・感染症 対策ﾏﾆｭｱﾙ | X106: 有（最終更新： | AD106: 年 | AF106: 月） | AG106: 無
A108: エネルギー産生 栄養素バランス | C108: たんぱく質 | G108: %ｴﾈﾙｷﾞｰ | J108: =IF($J$86="","",(J88*4/$J$86)*100) | N108: =IF($N$86="","",(N88*4/$N$86)*100) | S108: 災害対策ﾏﾆｭｱﾙ | X108: 有（最終更新： | AD108: 年 | AF108: 月） | AG108: 無
C110: 脂質 | G110: %ｴﾈﾙｷﾞｰ | J110: =IF($J$86="","",(J90*9/$J$86)*100) | N110: =IF($N$86="","",(N90*9/$N$86)*100) | S110: 水の備蓄 | X110: 有（ | AA110: ℓ× | AC110: 人× | AE110: 日分） | AG110: 無
C112: 炭水化物 | G112: %ｴﾈﾙｷﾞｰ | J112: =IF(J86="","",100-(J108+J110)) | N112: =IF(N86="","",100-(N108+N110)) | S112: 食料の備蓄 | X112: 有（ | AB112: 人× | AE112: 日分） | AG112: 無
A114: 野菜類 | C114: 緑黄色野菜 | G114: ｇ | S114: 施設外との 連携体制 | X114: 系列施設 | AA114: 近隣施設 | AD114: 給食会社 | AG114: 無
C116: その他の野菜 | G116: ｇ | X116: その他（ | AF116: ）
A118: 《給食・栄養管理における施設の特徴、独自の取組み》 | R118: 《栄養管理における現在の課題》
A124: 《地域連携のニーズや保健所主催の研修等への希望》 | R124: 《課題に対する改善策とその評価》
